BEGIN:VCALENDAR
VERSION:2.0
PRODID:-//NADI Batu Melintang - ECPv6.15.20//NONSGML v1.0//EN
CALSCALE:GREGORIAN
METHOD:PUBLISH
X-WR-CALNAME:NADI Batu Melintang
X-ORIGINAL-URL:https://batumelintang.nadi.my
X-WR-CALDESC:Events for NADI Batu Melintang
REFRESH-INTERVAL;VALUE=DURATION:PT1H
X-Robots-Tag:noindex
X-PUBLISHED-TTL:PT1H
BEGIN:VTIMEZONE
TZID:Asia/Kuala_Lumpur
BEGIN:STANDARD
TZOFFSETFROM:+0800
TZOFFSETTO:+0800
TZNAME:+08
DTSTART:20240101T000000
END:STANDARD
END:VTIMEZONE
BEGIN:VEVENT
DTSTART;VALUE=DATE:20250222
DTEND;VALUE=DATE:20250223
DTSTAMP:20260423T003809
CREATED:20250222T013104Z
LAST-MODIFIED:20250222T014620Z
UID:3674-1740182400-1740268799@batumelintang.nadi.my
SUMMARY:WEBINAR : (NADI X KIDPRENEUR)
DESCRIPTION:WEBINAR 1 : PENGENALAN KEPADA KEUSAHAWANAN \nTarikh: 22 Februari 2025 (Sabtu)\nMasa : 10 pagi – 11 pagi\nTajuk : Pengenalan Kepada Keusahawanan\nMod : Webinar Atas Talian\nPlatform : Zoom\nPautan : https://mtdc-my.zoom.us/j/83431743436?pwd=AIy5h7ZD3DKBaamUbnx5hDthsQxXLV.1 \nPeserta Usahawan Cilik digalakkan hadir ke NADI tempat anda berdaftar atau jika mempunyai kekangan\, peserta boleh sahaja mengikuti webinar dari mana-mana lokasi mengikuti kesesuaian masing-masing.
URL:https://batumelintang.nadi.my/event/webinar-nadi-x-kidpreneur/
LOCATION:NADI Batu Melintang\, NADI Batu Melintang
END:VEVENT
BEGIN:VEVENT
DTSTART;VALUE=DATE:20250222
DTEND;VALUE=DATE:20250223
DTSTAMP:20260423T003809
CREATED:20250222T015009Z
LAST-MODIFIED:20250222T015009Z
UID:3676-1740182400-1740268799@batumelintang.nadi.my
SUMMARY:BENGKEL TINY TECHIES : ROBOTIK
DESCRIPTION:Assalamualaikum dan Salam Sejahtera\,\n\n\nDengan segala hormatnya\, kami ingin memaklumkan bahawa Tiny Techies Workshop – Robotic akan diadakan seperti ketetapan berikut:\n\n\n Tarikh: 22 Februari 2025 (Sabtu)\n Masa : 10 pagi – 12 Tengahari\n Platform: YouTube (Siaran Langsung)\n Pautan: https://bitly.cx/5cW9m\n Umur : Sekolah Rendah (7-12 tahun)\n\n\n 
URL:https://batumelintang.nadi.my/event/bengkel-tiny-techies-robotik/
LOCATION:Online\, Online
END:VEVENT
END:VCALENDAR