BEGIN:VCALENDAR
VERSION:2.0
PRODID:-//NADI Batu Melintang - ECPv6.15.20//NONSGML v1.0//EN
CALSCALE:GREGORIAN
METHOD:PUBLISH
X-ORIGINAL-URL:https://batumelintang.nadi.my
X-WR-CALDESC:Events for NADI Batu Melintang
REFRESH-INTERVAL;VALUE=DURATION:PT1H
X-Robots-Tag:noindex
X-PUBLISHED-TTL:PT1H
BEGIN:VTIMEZONE
TZID:Asia/Kuala_Lumpur
BEGIN:STANDARD
TZOFFSETFROM:+0800
TZOFFSETTO:+0800
TZNAME:+08
DTSTART:20250101T000000
END:STANDARD
END:VTIMEZONE
BEGIN:VEVENT
DTSTART;VALUE=DATE:20260214
DTEND;VALUE=DATE:20260215
DTSTAMP:20260420T060932
CREATED:20260213T085450Z
LAST-MODIFIED:20260213T090759Z
UID:4031-1771027200-1771113599@batumelintang.nadi.my
SUMMARY:NADI Kesejahteraan Kendiri
DESCRIPTION:Taekwando Asas Pertahanan Diri \nlayari : https://www.youtube.com/@StudioSihat
URL:https://batumelintang.nadi.my/event/nadi-kesejahteraan-kendiri/
END:VEVENT
END:VCALENDAR