BEGIN:VCALENDAR
VERSION:2.0
PRODID:-//NADI Batu Melintang - ECPv6.15.20//NONSGML v1.0//EN
CALSCALE:GREGORIAN
METHOD:PUBLISH
X-WR-CALNAME:NADI Batu Melintang
X-ORIGINAL-URL:https://batumelintang.nadi.my
X-WR-CALDESC:Events for NADI Batu Melintang
REFRESH-INTERVAL;VALUE=DURATION:PT1H
X-Robots-Tag:noindex
X-PUBLISHED-TTL:PT1H
BEGIN:VTIMEZONE
TZID:UTC
BEGIN:STANDARD
TZOFFSETFROM:+0000
TZOFFSETTO:+0000
TZNAME:UTC
DTSTART:20220101T000000
END:STANDARD
END:VTIMEZONE
BEGIN:VEVENT
DTSTART;TZID=UTC:20231107T000000
DTEND;TZID=UTC:20231107T235959
DTSTAMP:20260419T222140
CREATED:20231104T195246Z
LAST-MODIFIED:20231104T195246Z
UID:3494-1699315200-1699401599@batumelintang.nadi.my
SUMMARY:ICT Quiz Online ii / Student
DESCRIPTION:Kelas aktiviti bersama pelajar untuk menguji minda mereka selain mengisi masa lapang dengan benda berfaedah.
URL:https://batumelintang.nadi.my/event/ict-quiz-online-ii-student/
LOCATION:PEDi Batu Melintang\, PEDi Batu Melintang
CATEGORIES:DEFAULT
END:VEVENT
BEGIN:VEVENT
DTSTART;TZID=UTC:20231106T000000
DTEND;TZID=UTC:20231106T235959
DTSTAMP:20260419T222140
CREATED:20231104T195142Z
LAST-MODIFIED:20231104T195142Z
UID:3493-1699228800-1699315199@batumelintang.nadi.my
SUMMARY:Asas Kemahiran Membuat Resume / Open
DESCRIPTION:Kelas membuat resume kepada komuniti yang sedang menganggur dan sedang mencari pekerjaan.
URL:https://batumelintang.nadi.my/event/asas-kemahiran-membuat-resume-open/
LOCATION:PEDi Batu Melintang\, PEDi Batu Melintang
CATEGORIES:DEFAULT
END:VEVENT
BEGIN:VEVENT
DTSTART;TZID=UTC:20230919T000000
DTEND;TZID=UTC:20230919T235959
DTSTAMP:20260419T222140
CREATED:20230922T180241Z
LAST-MODIFIED:20230922T180241Z
UID:3492-1695081600-1695167999@batumelintang.nadi.my
SUMMARY:Kelas Editing Canva ( Open )
DESCRIPTION:Kelas belajar aplikasi canva editing seperti membuat poster kreatif\,kad ucapan dan sebagainya.
URL:https://batumelintang.nadi.my/event/kelas-editing-canva-open/
LOCATION:PEDi Batu Melintang\, PEDi Batu Melintang
CATEGORIES:DEFAULT
END:VEVENT
BEGIN:VEVENT
DTSTART;TZID=UTC:20230917T000000
DTEND;TZID=UTC:20230917T235959
DTSTAMP:20260419T222140
CREATED:20230922T175657Z
LAST-MODIFIED:20230922T175657Z
UID:3491-1694908800-1694995199@batumelintang.nadi.my
SUMMARY:Asas Microsoft Excel ( Open )
DESCRIPTION:Kelas asas mempelajari microsoft excel dengan lebih jelas dan mudah difahami. 
URL:https://batumelintang.nadi.my/event/asas-microsoft-excel-open/
LOCATION:PEDi Batu Melintang\, PEDi Batu Melintang
CATEGORIES:DEFAULT
END:VEVENT
BEGIN:VEVENT
DTSTART;TZID=UTC:20230816T000000
DTEND;TZID=UTC:20230816T235959
DTSTAMP:20260419T222140
CREATED:20230820T004325Z
LAST-MODIFIED:20230820T004325Z
UID:3490-1692144000-1692230399@batumelintang.nadi.my
SUMMARY:Modul Asas Canva / Open
DESCRIPTION:Kelas belajar edit menggunakan Canva 
URL:https://batumelintang.nadi.my/event/modul-asas-canva-open/
LOCATION:PEDi Batu Melintang\, PEDi Batu Melintang
CATEGORIES:DEFAULT
END:VEVENT
BEGIN:VEVENT
DTSTART;TZID=UTC:20230815T000000
DTEND;TZID=UTC:20230815T235959
DTSTAMP:20260419T222140
CREATED:20230820T004231Z
LAST-MODIFIED:20230820T004231Z
UID:3489-1692057600-1692143999@batumelintang.nadi.my
SUMMARY:E-Pembelajaran ( Kuiz Online ) / Student
DESCRIPTION:Belajar menjawab kuiz secara online.
URL:https://batumelintang.nadi.my/event/e-pembelajaran-kuiz-online-student-2/
LOCATION:PEDi Batu Melintang\, PEDi Batu Melintang
CATEGORIES:DEFAULT
END:VEVENT
BEGIN:VEVENT
DTSTART;TZID=UTC:20230812T000000
DTEND;TZID=UTC:20230812T235959
DTSTAMP:20260419T222140
CREATED:20230820T004059Z
LAST-MODIFIED:20230820T004059Z
UID:3488-1691798400-1691884799@batumelintang.nadi.my
SUMMARY:Softskills - Kelas Kemahiran Temuduga / Open
DESCRIPTION:Kelas Untuk belajar perkara yang perlu dilakukan sebelum\,semasa dan selepas temuduga \n 
URL:https://batumelintang.nadi.my/event/softskills-kelas-kemahiran-temuduga-open/
LOCATION:Online Zoom\, Online Zoom
CATEGORIES:DEFAULT
END:VEVENT
BEGIN:VEVENT
DTSTART;TZID=UTC:20230718T000000
DTEND;TZID=UTC:20230718T235959
DTSTAMP:20260419T222140
CREATED:20230722T174526Z
LAST-MODIFIED:20230722T174526Z
UID:3486-1689638400-1689724799@batumelintang.nadi.my
SUMMARY:Asas Pengenalan Emel / Open
DESCRIPTION:Kelas asas mempelajari cara membuka akaun emel kepada pengguna yang belum ada emel. Mengajar mereka tentang fungsi setiap menu dalam emel.
URL:https://batumelintang.nadi.my/event/asas-pengenalan-emel-open/
LOCATION:PEDi Batu Melintang\, PEDi Batu Melintang
CATEGORIES:DEFAULT
END:VEVENT
BEGIN:VEVENT
DTSTART;TZID=UTC:20230715T000000
DTEND;TZID=UTC:20230715T235959
DTSTAMP:20260419T222140
CREATED:20230722T174009Z
LAST-MODIFIED:20230722T174009Z
UID:3485-1689379200-1689465599@batumelintang.nadi.my
SUMMARY:Kelas Microsoft Powerpoint / Open
DESCRIPTION:Mempelajari teknik menggunakan microsoft powerpoint dengan baik dan menarik.
URL:https://batumelintang.nadi.my/event/kelas-microsoft-powerpoint-open/
LOCATION:PEDi Batu Melintang\, PEDi Batu Melintang
CATEGORIES:DEFAULT
END:VEVENT
BEGIN:VEVENT
DTSTART;TZID=UTC:20230714T000000
DTEND;TZID=UTC:20230714T235959
DTSTAMP:20260419T222140
CREATED:20230722T173904Z
LAST-MODIFIED:20230722T173904Z
UID:3484-1689292800-1689379199@batumelintang.nadi.my
SUMMARY:Klik Dengan Bijak / Student
DESCRIPTION:Kelas untuk memberi pendedahan kepada pelajar tentang kepentingan klik dengan bijak semasa melayari media sosial.
URL:https://batumelintang.nadi.my/event/klik-dengan-bijak-student-2/
LOCATION:PEDi Batu Melintang\, PEDi Batu Melintang
CATEGORIES:DEFAULT
END:VEVENT
BEGIN:VEVENT
DTSTART;TZID=UTC:20230712T000000
DTEND;TZID=UTC:20230712T235959
DTSTAMP:20260419T222140
CREATED:20230722T173739Z
LAST-MODIFIED:20230722T173739Z
UID:3483-1689120000-1689206399@batumelintang.nadi.my
SUMMARY:Asas Komputer / Student
DESCRIPTION:Kelas mengenal perkara asas komputer seperti mengenal peralatan komputer dan fungsinya.
URL:https://batumelintang.nadi.my/event/asas-komputer-student/
LOCATION:PEDi Batu Melintang\, PEDi Batu Melintang
CATEGORIES:DEFAULT
END:VEVENT
BEGIN:VEVENT
DTSTART;TZID=UTC:20230711T000000
DTEND;TZID=UTC:20230711T235959
DTSTAMP:20260419T222140
CREATED:20230722T173632Z
LAST-MODIFIED:20230722T173632Z
UID:3482-1689033600-1689119999@batumelintang.nadi.my
SUMMARY:Modul Keusahawanan / Open
DESCRIPTION:Memberi taklimat berkaitan keusahawanan seperti kelas pengurusan kewangan 
URL:https://batumelintang.nadi.my/event/modul-keusahawanan-open/
LOCATION:PEDi Batu Melintang\, PEDi Batu Melintang
CATEGORIES:DEFAULT
END:VEVENT
BEGIN:VEVENT
DTSTART;TZID=UTC:20230620T000000
DTEND;TZID=UTC:20230620T235959
DTSTAMP:20260419T222140
CREATED:20230607T182959Z
LAST-MODIFIED:20230607T182959Z
UID:3481-1687219200-1687305599@batumelintang.nadi.my
SUMMARY:Pengenalan Emel / Terbuka
DESCRIPTION:Memperkenalkan cara menggunakan emel dengan betul.
URL:https://batumelintang.nadi.my/event/pengenalan-emel-terbuka/
LOCATION:PEDi Batu Melintang\, PEDi Batu Melintang
CATEGORIES:DEFAULT
END:VEVENT
BEGIN:VEVENT
DTSTART;TZID=UTC:20230619T000000
DTEND;TZID=UTC:20230619T235959
DTSTAMP:20260419T222140
CREATED:20230607T182855Z
LAST-MODIFIED:20230607T182855Z
UID:3480-1687132800-1687219199@batumelintang.nadi.my
SUMMARY:Kelas KDB / Pelajar
DESCRIPTION:Kelas klik dengan bijak untuk memberi pengetahuan kepada pelajar supaya menjaga adab dan tingkahlaku semasa melayari internet.
URL:https://batumelintang.nadi.my/event/kelas-kdb-pelajar-2/
LOCATION:PEDi Batu Melintang\, PEDi Batu Melintang
CATEGORIES:DEFAULT
END:VEVENT
BEGIN:VEVENT
DTSTART;TZID=UTC:20230618T000000
DTEND;TZID=UTC:20230618T235959
DTSTAMP:20260419T222140
CREATED:20230607T182636Z
LAST-MODIFIED:20230607T182636Z
UID:3479-1687046400-1687132799@batumelintang.nadi.my
SUMMARY:Kuiz ICT Online / Terbuka
DESCRIPTION:Kelas meningkatkan pengetahuan peserta tentang ict melalui cara menjawab soalan online.
URL:https://batumelintang.nadi.my/event/kuiz-ict-online-terbuka/
LOCATION:PEDi Batu Melintang\, PEDi Batu Melintang
CATEGORIES:DEFAULT
END:VEVENT
BEGIN:VEVENT
DTSTART;TZID=UTC:20230616T000000
DTEND;TZID=UTC:20230616T235959
DTSTAMP:20260419T222140
CREATED:20230607T182528Z
LAST-MODIFIED:20230607T182528Z
UID:3478-1686873600-1686959999@batumelintang.nadi.my
SUMMARY:Basic Copy Paste & Print / Terbuka
DESCRIPTION:Kelas untuk mengajar peserta tentang cara copy paste dan seterusnya print. 
URL:https://batumelintang.nadi.my/event/basic-copy-paste-print-terbuka/
LOCATION:PEDi Batu Melintang\, PEDi Batu Melintang
CATEGORIES:DEFAULT
END:VEVENT
BEGIN:VEVENT
DTSTART;TZID=UTC:20230614T000000
DTEND;TZID=UTC:20230614T235959
DTSTAMP:20260419T222140
CREATED:20230607T182406Z
LAST-MODIFIED:20230607T182406Z
UID:3477-1686700800-1686787199@batumelintang.nadi.my
SUMMARY:Shopee Basic / Usahawan
DESCRIPTION:Kelas kepada para usahawan tempatan untuk mempelajari asas shopee.
URL:https://batumelintang.nadi.my/event/shopee-basic-usahawan/
LOCATION:PEDi Batu Melintang\, PEDi Batu Melintang
CATEGORIES:DEFAULT
END:VEVENT
BEGIN:VEVENT
DTSTART;TZID=UTC:20230610T000000
DTEND;TZID=UTC:20230610T235959
DTSTAMP:20260419T222140
CREATED:20230607T182245Z
LAST-MODIFIED:20230607T182245Z
UID:3476-1686355200-1686441599@batumelintang.nadi.my
SUMMARY:Microsoft Excel / Pelajar
DESCRIPTION:Kelas mempelajari dengan lebih mendalam tentang microsoft excel kepada pelajar.
URL:https://batumelintang.nadi.my/event/microsoft-excel-pelajar/
LOCATION:PEDi Batu Melintang\, PEDi Batu Melintang
CATEGORIES:DEFAULT
END:VEVENT
BEGIN:VEVENT
DTSTART;TZID=UTC:20230608T000000
DTEND;TZID=UTC:20230608T235959
DTSTAMP:20260419T222140
CREATED:20230607T182143Z
LAST-MODIFIED:20230607T182143Z
UID:3475-1686182400-1686268799@batumelintang.nadi.my
SUMMARY:E-Pembelajaran ( Kuiz Online ) / Pelajar
DESCRIPTION:Kelas untuk meningkatkan kemahiran pelajar menjawab soalan kuiz secara online. Kuiz ini berkaitan ict\,pengetahuan am dan sebagainya.
URL:https://batumelintang.nadi.my/event/e-pembelajaran-kuiz-online-pelajar/
LOCATION:PEDi Batu Melintang\, PEDi Batu Melintang
CATEGORIES:DEFAULT
END:VEVENT
BEGIN:VEVENT
DTSTART;TZID=UTC:20230508T000000
DTEND;TZID=UTC:20230510T235959
DTSTAMP:20260419T222140
CREATED:20230509T175034Z
LAST-MODIFIED:20230509T175034Z
UID:3465-1683504000-1683763199@batumelintang.nadi.my
SUMMARY:Editing Canva / Open
DESCRIPTION:Kelas Keusahawanan belajar editing menggunakan Canva untuk para usahawan membuat design bagi mempromosi produk jualan mereka.
URL:https://batumelintang.nadi.my/event/editing-canva-open/
LOCATION:PEDi Batu Melintang\, PEDi Batu Melintang
CATEGORIES:DEFAULT
END:VEVENT
BEGIN:VEVENT
DTSTART;TZID=UTC:20230505T000000
DTEND;TZID=UTC:20230510T235959
DTSTAMP:20260419T222140
CREATED:20230509T174901Z
LAST-MODIFIED:20230509T174901Z
UID:3464-1683244800-1683763199@batumelintang.nadi.my
SUMMARY:E-Pembelajaran( Online Quiz) Open
DESCRIPTION:Menguji minda setiap peserta dengan menjawab soalan kuiz secara online. Soalan yang dipilih dipelbagaikan contohnya berkaitan ict\,pendidikan agama islam dan sebagainya.
URL:https://batumelintang.nadi.my/event/e-pembelajaran-online-quiz-open/
LOCATION:PEDi Batu Melintang\, PEDi Batu Melintang
CATEGORIES:DEFAULT
END:VEVENT
BEGIN:VEVENT
DTSTART;TZID=UTC:20230504T000000
DTEND;TZID=UTC:20230504T235959
DTSTAMP:20260419T222140
CREATED:20230420T003952Z
LAST-MODIFIED:20230420T003952Z
UID:3463-1683158400-1683244799@batumelintang.nadi.my
SUMMARY:Kelas Microsoft Office Word / Student
DESCRIPTION:Kelas microsoft office word iaitu belajar tentang icon\,menu dan sebagainya tentang microsoft word. Memberi pendedahan kepada pelajar demi kemudahan mereka pada masa hadapan.
URL:https://batumelintang.nadi.my/event/kelas-microsoft-office-word-student-2/
LOCATION:PEDi Batu Melintang\, PEDi Batu Melintang
CATEGORIES:DEFAULT
END:VEVENT
BEGIN:VEVENT
DTSTART;TZID=UTC:20230502T000000
DTEND;TZID=UTC:20230502T235959
DTSTAMP:20260419T222140
CREATED:20230420T003718Z
LAST-MODIFIED:20230420T003718Z
UID:3462-1682985600-1683071999@batumelintang.nadi.my
SUMMARY:Kelas Basic Shopee / Open
DESCRIPTION:Kelas kepada para usahawan tentang akaun shopee untuk mempromosi jualan mereka. 
URL:https://batumelintang.nadi.my/event/kelas-basic-shopee-open/
LOCATION:PEDi Batu Melintang\, PEDi Batu Melintang
CATEGORIES:DEFAULT
END:VEVENT
BEGIN:VEVENT
DTSTART;TZID=UTC:20230316T000000
DTEND;TZID=UTC:20230316T235959
DTSTAMP:20260419T222140
CREATED:20230509T181655Z
LAST-MODIFIED:20230509T181655Z
UID:3471-1678924800-1679011199@batumelintang.nadi.my
SUMMARY:E-Pembelajaran / Student
DESCRIPTION:Menguji minda setiap peserta dengan menjawab soalan kuiz secara online. Soalan yang dipilih dipelbagaikan contohnya berkaitan ict\,pendidikan agama islam dan sebagainya.
URL:https://batumelintang.nadi.my/event/e-pembelajaran-student-3/
LOCATION:PEDi Batu Melintang\, PEDi Batu Melintang
CATEGORIES:DEFAULT
END:VEVENT
BEGIN:VEVENT
DTSTART;TZID=UTC:20230314T000000
DTEND;TZID=UTC:20230314T235959
DTSTAMP:20260419T222140
CREATED:20230509T181534Z
LAST-MODIFIED:20230509T181534Z
UID:3470-1678752000-1678838399@batumelintang.nadi.my
SUMMARY:Kelas Canva Editing / Open
DESCRIPTION:Memberi tunjuk ajar tentang perniagaan menggunakan platform shopee dan menggunakan aplikasi canva untuk menghias serta merekabentuk kedai online shopee peserta.
URL:https://batumelintang.nadi.my/event/kelas-canva-editing-open/
LOCATION:PEDi Batu Melintang\, PEDi Batu Melintang
CATEGORIES:DEFAULT
END:VEVENT
BEGIN:VEVENT
DTSTART;TZID=UTC:20230311T000000
DTEND;TZID=UTC:20230311T235959
DTSTAMP:20260419T222140
CREATED:20230509T181409Z
LAST-MODIFIED:20230509T181409Z
UID:3469-1678492800-1678579199@batumelintang.nadi.my
SUMMARY:Kelas Asas Microsoft Office / Student
DESCRIPTION:Kelas meningkatkan pengetahuan peserta tentang microsoft word\,powerpoint dan excel. 
URL:https://batumelintang.nadi.my/event/kelas-asas-microsoft-office-student/
LOCATION:PEDi Batu Melintang\, PEDi Batu Melintang
CATEGORIES:DEFAULT
END:VEVENT
BEGIN:VEVENT
DTSTART;TZID=UTC:20230212T000000
DTEND;TZID=UTC:20230212T235959
DTSTAMP:20260419T222140
CREATED:20230129T182648Z
LAST-MODIFIED:20230129T182648Z
UID:3459-1676160000-1676246399@batumelintang.nadi.my
SUMMARY:Rapid Typing Test / Student
DESCRIPTION:Satu aktiviti pertandingan menaip dengan pantas untuk menguji tahap menaip dikalangan pelajar yang berkunjung ke Pusat Ekonomi Digital ( PEDi ). 
URL:https://batumelintang.nadi.my/event/rapid-typing-test-student/
LOCATION:PEDi Batu Melintang\, PEDi Batu Melintang
CATEGORIES:DEFAULT
END:VEVENT
BEGIN:VEVENT
DTSTART;TZID=UTC:20230211T000000
DTEND;TZID=UTC:20230211T235959
DTSTAMP:20260419T222140
CREATED:20230129T182500Z
LAST-MODIFIED:20230129T182500Z
UID:3458-1676073600-1676159999@batumelintang.nadi.my
SUMMARY:Klik Dengan Bijak ( Oversharing ) / Open
DESCRIPTION:Kepentingan Klik Dengan Bijak bertajuk oversharing khusus buat pelajar yang menggunakan telefon dan media massa supaya menjaga tingkahlaku agar tidak mendatangkan masalah dalam hidup mereka.
URL:https://batumelintang.nadi.my/event/klik-dengan-bijak-oversharing-open/
LOCATION:PEDi Batu Melintang\, PEDi Batu Melintang
CATEGORIES:DEFAULT
END:VEVENT
BEGIN:VEVENT
DTSTART;TZID=UTC:20230210T000000
DTEND;TZID=UTC:20230210T235959
DTSTAMP:20260419T222140
CREATED:20230129T182255Z
LAST-MODIFIED:20230129T182255Z
UID:3457-1675987200-1676073599@batumelintang.nadi.my
SUMMARY:Kelas Shopee&Canva / Open
DESCRIPTION:Kelas asas pembukaan akaun shopee dan belajar canva khusus kepada usahawan dan peserta yang berminat.
URL:https://batumelintang.nadi.my/event/kelas-shopeecanva-open/
LOCATION:PEDi Batu Melintang\, PEDi Batu Melintang
CATEGORIES:DEFAULT
END:VEVENT
BEGIN:VEVENT
DTSTART;TZID=UTC:20230205T000000
DTEND;TZID=UTC:20230205T235959
DTSTAMP:20260419T222140
CREATED:20230129T181651Z
LAST-MODIFIED:20230129T181651Z
UID:3456-1675555200-1675641599@batumelintang.nadi.my
SUMMARY:Colouring Online / Student
DESCRIPTION:Kelas belajar mewarna secara online untuk pelajar pra atau tadika khususnya.
URL:https://batumelintang.nadi.my/event/colouring-online-student/
LOCATION:PEDi Batu Melintang\, PEDi Batu Melintang
CATEGORIES:DEFAULT
END:VEVENT
END:VCALENDAR