BEGIN:VCALENDAR
VERSION:2.0
PRODID:-//NADI Batu Melintang - ECPv6.15.20//NONSGML v1.0//EN
CALSCALE:GREGORIAN
METHOD:PUBLISH
X-WR-CALNAME:NADI Batu Melintang
X-ORIGINAL-URL:https://batumelintang.nadi.my
X-WR-CALDESC:Events for NADI Batu Melintang
REFRESH-INTERVAL;VALUE=DURATION:PT1H
X-Robots-Tag:noindex
X-PUBLISHED-TTL:PT1H
BEGIN:VTIMEZONE
TZID:UTC
BEGIN:STANDARD
TZOFFSETFROM:+0000
TZOFFSETTO:+0000
TZNAME:UTC
DTSTART:20210101T000000
END:STANDARD
END:VTIMEZONE
BEGIN:VEVENT
DTSTART;TZID=UTC:20230504T000000
DTEND;TZID=UTC:20230504T235959
DTSTAMP:20260420T124807
CREATED:20230420T003952Z
LAST-MODIFIED:20230420T003952Z
UID:3463-1683158400-1683244799@batumelintang.nadi.my
SUMMARY:Kelas Microsoft Office Word / Student
DESCRIPTION:Kelas microsoft office word iaitu belajar tentang icon\,menu dan sebagainya tentang microsoft word. Memberi pendedahan kepada pelajar demi kemudahan mereka pada masa hadapan.
URL:https://batumelintang.nadi.my/event/kelas-microsoft-office-word-student-2/
LOCATION:PEDi Batu Melintang\, PEDi Batu Melintang
CATEGORIES:DEFAULT
END:VEVENT
BEGIN:VEVENT
DTSTART;TZID=UTC:20230502T000000
DTEND;TZID=UTC:20230502T235959
DTSTAMP:20260420T124807
CREATED:20230420T003718Z
LAST-MODIFIED:20230420T003718Z
UID:3462-1682985600-1683071999@batumelintang.nadi.my
SUMMARY:Kelas Basic Shopee / Open
DESCRIPTION:Kelas kepada para usahawan tentang akaun shopee untuk mempromosi jualan mereka. 
URL:https://batumelintang.nadi.my/event/kelas-basic-shopee-open/
LOCATION:PEDi Batu Melintang\, PEDi Batu Melintang
CATEGORIES:DEFAULT
END:VEVENT
BEGIN:VEVENT
DTSTART;TZID=UTC:20230316T000000
DTEND;TZID=UTC:20230316T235959
DTSTAMP:20260420T124807
CREATED:20230509T181655Z
LAST-MODIFIED:20230509T181655Z
UID:3471-1678924800-1679011199@batumelintang.nadi.my
SUMMARY:E-Pembelajaran / Student
DESCRIPTION:Menguji minda setiap peserta dengan menjawab soalan kuiz secara online. Soalan yang dipilih dipelbagaikan contohnya berkaitan ict\,pendidikan agama islam dan sebagainya.
URL:https://batumelintang.nadi.my/event/e-pembelajaran-student-3/
LOCATION:PEDi Batu Melintang\, PEDi Batu Melintang
CATEGORIES:DEFAULT
END:VEVENT
BEGIN:VEVENT
DTSTART;TZID=UTC:20230314T000000
DTEND;TZID=UTC:20230314T235959
DTSTAMP:20260420T124807
CREATED:20230509T181534Z
LAST-MODIFIED:20230509T181534Z
UID:3470-1678752000-1678838399@batumelintang.nadi.my
SUMMARY:Kelas Canva Editing / Open
DESCRIPTION:Memberi tunjuk ajar tentang perniagaan menggunakan platform shopee dan menggunakan aplikasi canva untuk menghias serta merekabentuk kedai online shopee peserta.
URL:https://batumelintang.nadi.my/event/kelas-canva-editing-open/
LOCATION:PEDi Batu Melintang\, PEDi Batu Melintang
CATEGORIES:DEFAULT
END:VEVENT
BEGIN:VEVENT
DTSTART;TZID=UTC:20230311T000000
DTEND;TZID=UTC:20230311T235959
DTSTAMP:20260420T124807
CREATED:20230509T181409Z
LAST-MODIFIED:20230509T181409Z
UID:3469-1678492800-1678579199@batumelintang.nadi.my
SUMMARY:Kelas Asas Microsoft Office / Student
DESCRIPTION:Kelas meningkatkan pengetahuan peserta tentang microsoft word\,powerpoint dan excel. 
URL:https://batumelintang.nadi.my/event/kelas-asas-microsoft-office-student/
LOCATION:PEDi Batu Melintang\, PEDi Batu Melintang
CATEGORIES:DEFAULT
END:VEVENT
BEGIN:VEVENT
DTSTART;TZID=UTC:20230212T000000
DTEND;TZID=UTC:20230212T235959
DTSTAMP:20260420T124807
CREATED:20230129T182648Z
LAST-MODIFIED:20230129T182648Z
UID:3459-1676160000-1676246399@batumelintang.nadi.my
SUMMARY:Rapid Typing Test / Student
DESCRIPTION:Satu aktiviti pertandingan menaip dengan pantas untuk menguji tahap menaip dikalangan pelajar yang berkunjung ke Pusat Ekonomi Digital ( PEDi ). 
URL:https://batumelintang.nadi.my/event/rapid-typing-test-student/
LOCATION:PEDi Batu Melintang\, PEDi Batu Melintang
CATEGORIES:DEFAULT
END:VEVENT
BEGIN:VEVENT
DTSTART;TZID=UTC:20230211T000000
DTEND;TZID=UTC:20230211T235959
DTSTAMP:20260420T124807
CREATED:20230129T182500Z
LAST-MODIFIED:20230129T182500Z
UID:3458-1676073600-1676159999@batumelintang.nadi.my
SUMMARY:Klik Dengan Bijak ( Oversharing ) / Open
DESCRIPTION:Kepentingan Klik Dengan Bijak bertajuk oversharing khusus buat pelajar yang menggunakan telefon dan media massa supaya menjaga tingkahlaku agar tidak mendatangkan masalah dalam hidup mereka.
URL:https://batumelintang.nadi.my/event/klik-dengan-bijak-oversharing-open/
LOCATION:PEDi Batu Melintang\, PEDi Batu Melintang
CATEGORIES:DEFAULT
END:VEVENT
BEGIN:VEVENT
DTSTART;TZID=UTC:20230210T000000
DTEND;TZID=UTC:20230210T235959
DTSTAMP:20260420T124807
CREATED:20230129T182255Z
LAST-MODIFIED:20230129T182255Z
UID:3457-1675987200-1676073599@batumelintang.nadi.my
SUMMARY:Kelas Shopee&Canva / Open
DESCRIPTION:Kelas asas pembukaan akaun shopee dan belajar canva khusus kepada usahawan dan peserta yang berminat.
URL:https://batumelintang.nadi.my/event/kelas-shopeecanva-open/
LOCATION:PEDi Batu Melintang\, PEDi Batu Melintang
CATEGORIES:DEFAULT
END:VEVENT
BEGIN:VEVENT
DTSTART;TZID=UTC:20230205T000000
DTEND;TZID=UTC:20230205T235959
DTSTAMP:20260420T124807
CREATED:20230129T181651Z
LAST-MODIFIED:20230129T181651Z
UID:3456-1675555200-1675641599@batumelintang.nadi.my
SUMMARY:Colouring Online / Student
DESCRIPTION:Kelas belajar mewarna secara online untuk pelajar pra atau tadika khususnya.
URL:https://batumelintang.nadi.my/event/colouring-online-student/
LOCATION:PEDi Batu Melintang\, PEDi Batu Melintang
CATEGORIES:DEFAULT
END:VEVENT
BEGIN:VEVENT
DTSTART;TZID=UTC:20230204T000000
DTEND;TZID=UTC:20230204T235959
DTSTAMP:20260420T124807
CREATED:20230129T181548Z
LAST-MODIFIED:20230129T181548Z
UID:3455-1675468800-1675555199@batumelintang.nadi.my
SUMMARY:Kelas Asas Komputer / Open
DESCRIPTION:Kelas ini terbuka kepada peserta yang ingin belajar tentang komputer\,fungsi dan sebagainya.
URL:https://batumelintang.nadi.my/event/kelas-asas-komputer-open/
LOCATION:PEDi Batu Melintang\, PEDi Batu Melintang
CATEGORIES:DEFAULT
END:VEVENT
BEGIN:VEVENT
DTSTART;TZID=UTC:20230202T000000
DTEND;TZID=UTC:20230202T235959
DTSTAMP:20260420T124807
CREATED:20230129T181419Z
LAST-MODIFIED:20230129T181419Z
UID:3454-1675296000-1675382399@batumelintang.nadi.my
SUMMARY:Kelas Microsoft Office Word / Student
DESCRIPTION:Kelas untuk meningkatkan kemahiran pelajar menggunakan microsoft word dengan betul.
URL:https://batumelintang.nadi.my/event/kelas-microsoft-office-word-student/
LOCATION:PEDi Batu Melintang\, PEDi Batu Melintang
CATEGORIES:DEFAULT
END:VEVENT
BEGIN:VEVENT
DTSTART;TZID=UTC:20230105T000000
DTEND;TZID=UTC:20230105T235959
DTSTAMP:20260420T124807
CREATED:20230509T183633Z
LAST-MODIFIED:20230509T183633Z
UID:3474-1672876800-1672963199@batumelintang.nadi.my
SUMMARY:Klik Dengan Bijak / Open
DESCRIPTION:Memberi pendedahan kepada peserta tentang kepentingan menjaga keselamatan semasa melayari internet dan menggunakan internet dengan bijak.
URL:https://batumelintang.nadi.my/event/klik-dengan-bijak-open-3/
LOCATION:PEDi Batu Melintang\, PEDi Batu Melintang
CATEGORIES:DEFAULT
END:VEVENT
BEGIN:VEVENT
DTSTART;TZID=UTC:20230104T000000
DTEND;TZID=UTC:20230104T235959
DTSTAMP:20260420T124807
CREATED:20230509T183537Z
LAST-MODIFIED:20230509T183537Z
UID:3473-1672790400-1672876799@batumelintang.nadi.my
SUMMARY:Kelas Latihan Microsoft Word / Student
DESCRIPTION:Meningkatkan kemahiran pelajar menggunakan microsoft word\,copy & paste dan print
URL:https://batumelintang.nadi.my/event/kelas-latihan-microsoft-word-student/
LOCATION:PEDi Batu Melintang\, PEDi Batu Melintang
CATEGORIES:DEFAULT
END:VEVENT
BEGIN:VEVENT
DTSTART;TZID=UTC:20230102T000000
DTEND;TZID=UTC:20230102T235959
DTSTAMP:20260420T124807
CREATED:20230509T183257Z
LAST-MODIFIED:20230509T183257Z
UID:3472-1672617600-1672703999@batumelintang.nadi.my
SUMMARY:E-Pembelajaran ( Mewarna Kanak-Kanak ) / Student
DESCRIPTION:Mendekatkan pelajar tabika dengan Pusat Internet. Selain itu pelajar juga dapat membiasakan diri dengan menggunakan komputer.
URL:https://batumelintang.nadi.my/event/e-pembelajaran-mewarna-kanak-kanak-student/
LOCATION:PEDi Batu Melintang\, PEDi Batu Melintang
CATEGORIES:DEFAULT
END:VEVENT
BEGIN:VEVENT
DTSTART;TZID=UTC:20221218T000000
DTEND;TZID=UTC:20221218T235959
DTSTAMP:20260420T124807
CREATED:20221206T175847Z
LAST-MODIFIED:20221206T175847Z
UID:3453-1671321600-1671407999@batumelintang.nadi.my
SUMMARY:Quiz Online ( Open )
DESCRIPTION:Menjalankan aktiviti menjawab kuiz secara online menggunakan google untuk meningkatkan pemahaman peserta serta menguji minda mereka.
URL:https://batumelintang.nadi.my/event/quiz-online-open-5/
LOCATION:PEDi Batu Melintang\, PEDi Batu Melintang
CATEGORIES:DEFAULT
END:VEVENT
BEGIN:VEVENT
DTSTART;TZID=UTC:20221216T000000
DTEND;TZID=UTC:20221216T235959
DTSTAMP:20260420T124807
CREATED:20221206T175648Z
LAST-MODIFIED:20221206T175648Z
UID:3452-1671148800-1671235199@batumelintang.nadi.my
SUMMARY:Kelas Klik Dengan Bijak ( Open )
DESCRIPTION:Menyedarkan komuniti tentang kepentingan Klik dengan bijak semasa menggunakan media masa supaya tidak terlibat dengan kesalahan undang-undang negara dan menjaga keselamatan di alam maya.
URL:https://batumelintang.nadi.my/event/kelas-klik-dengan-bijak-open-2/
LOCATION:PEDi Batu Melintang\, PEDi Batu Melintang
CATEGORIES:DEFAULT
END:VEVENT
BEGIN:VEVENT
DTSTART;TZID=UTC:20221214T000000
DTEND;TZID=UTC:20221214T235959
DTSTAMP:20260420T124807
CREATED:20221206T175504Z
LAST-MODIFIED:20221206T175504Z
UID:3451-1670976000-1671062399@batumelintang.nadi.my
SUMMARY:Pengenalan Emel ( Open )
DESCRIPTION:Mengajar peserta untuk membuat akaun emel serta memberitahu kepentingan penggunaan emel pada masa kini dalam kehidupan zaman moden.
URL:https://batumelintang.nadi.my/event/pengenalan-emel-open-3/
LOCATION:PEDi Batu Melintang\, PEDi Batu Melintang
CATEGORIES:DEFAULT
END:VEVENT
BEGIN:VEVENT
DTSTART;TZID=UTC:20221212T000000
DTEND;TZID=UTC:20221212T235959
DTSTAMP:20260420T124807
CREATED:20221206T175238Z
LAST-MODIFIED:20221206T175238Z
UID:3450-1670803200-1670889599@batumelintang.nadi.my
SUMMARY:Fast Typing ( Open )
DESCRIPTION:Satu Pertandingan menaip dengan pantas untuk menguji tahap menaip peserta dan menarik minat peserta untuk selalu menyertai aktiviti di PEDI.
URL:https://batumelintang.nadi.my/event/fast-typing-open/
LOCATION:PEDi Batu Melintang\, PEDi Batu Melintang
CATEGORIES:DEFAULT
END:VEVENT
BEGIN:VEVENT
DTSTART;TZID=UTC:20221210T000000
DTEND;TZID=UTC:20221210T235959
DTSTAMP:20260420T124807
CREATED:20221206T175113Z
LAST-MODIFIED:20221206T175113Z
UID:3449-1670630400-1670716799@batumelintang.nadi.my
SUMMARY:Tekasilangkata Kuiz ( Pelajar )
DESCRIPTION:Menguji minda pelajar serta mengisi masa terluang dengan perkara berfaedah.
URL:https://batumelintang.nadi.my/event/tekasilangkata-kuiz-pelajar/
LOCATION:PEDi Batu Melintang\, PEDi Batu Melintang
CATEGORIES:DEFAULT
END:VEVENT
BEGIN:VEVENT
DTSTART;TZID=UTC:20221208T000000
DTEND;TZID=UTC:20221208T235959
DTSTAMP:20260420T124807
CREATED:20221206T175015Z
LAST-MODIFIED:20221206T175015Z
UID:3448-1670457600-1670543999@batumelintang.nadi.my
SUMMARY:Microsoft Excel ( Open )
DESCRIPTION:Kelas Meningkatkan kemahiran pelajar tentang microsoft excel.
URL:https://batumelintang.nadi.my/event/microsoft-excel-open-2/
LOCATION:PEDi Batu Melintang\, PEDi Batu Melintang
CATEGORIES:DEFAULT
END:VEVENT
BEGIN:VEVENT
DTSTART;TZID=UTC:20221207T000000
DTEND;TZID=UTC:20221207T235959
DTSTAMP:20260420T124807
CREATED:20221206T174717Z
LAST-MODIFIED:20221206T174717Z
UID:3447-1670371200-1670457599@batumelintang.nadi.my
SUMMARY:E-Pembelajaran ( latihtubi.com )
DESCRIPTION:Kelas untuk meningkatkan prestasi pelajar bagi menguasai matapelajaran seperti bahasa melayu\,inggeris dan banyak lagi secara online.
URL:https://batumelintang.nadi.my/event/e-pembelajaran-latihtubi-com/
LOCATION:PEDi Batu Melintang\, PEDi Batu Melintang
CATEGORIES:DEFAULT
END:VEVENT
BEGIN:VEVENT
DTSTART;TZID=UTC:20221011T000000
DTEND;TZID=UTC:20221011T235959
DTSTAMP:20260420T124807
CREATED:20221002T195145Z
LAST-MODIFIED:20221002T195145Z
UID:3441-1665446400-1665532799@batumelintang.nadi.my
SUMMARY:Literasi ICT ( Emel Basic ) Open
DESCRIPTION:Kelas belajar membuat emel kepada peserta yang tiada emel dan tidak pernah menggunakan emel.
URL:https://batumelintang.nadi.my/event/literasi-ict-emel-basic-open/
LOCATION:PEDi Batu Melintang\, PEDi Batu Melintang
CATEGORIES:DEFAULT
END:VEVENT
BEGIN:VEVENT
DTSTART;TZID=UTC:20221010T000000
DTEND;TZID=UTC:20221010T235959
DTSTAMP:20260420T124807
CREATED:20221002T194947Z
LAST-MODIFIED:20221002T194947Z
UID:3440-1665360000-1665446399@batumelintang.nadi.my
SUMMARY:Kelas Klik Dengan Bijak / Open
DESCRIPTION:Kelas penerangan mengenai kepentingan menggunakan media sosial atau laman web secara bijak dan berhemah. Pelbagai tajuk akan dikupas contohnya kepentingan privacy\, kerahsiaan no pin\, oversharing dan banyak lagi.
URL:https://batumelintang.nadi.my/event/kelas-klik-dengan-bijak-open/
LOCATION:PEDi Batu Melintang\, PEDi Batu Melintang
CATEGORIES:DEFAULT
END:VEVENT
BEGIN:VEVENT
DTSTART;TZID=UTC:20221007T000000
DTEND;TZID=UTC:20221007T235959
DTSTAMP:20260420T124807
CREATED:20221002T194730Z
LAST-MODIFIED:20221002T194730Z
UID:3439-1665100800-1665187199@batumelintang.nadi.my
SUMMARY:Kelas Pemantapan Mic Word / Student
DESCRIPTION:Kelas pemantapan mic word dilaksanakan bertujuan meningkatkan kemahiran pelajar menggunakan mic word sambil menyiapkan kerja sekolah atau kerja kursus.
URL:https://batumelintang.nadi.my/event/kelas-pemantapan-mic-word-student/
LOCATION:PEDi Batu Melintang\, PEDi Batu Melintang
CATEGORIES:DEFAULT
END:VEVENT
BEGIN:VEVENT
DTSTART;TZID=UTC:20221005T000000
DTEND;TZID=UTC:20221005T235959
DTSTAMP:20260420T124807
CREATED:20221002T194458Z
LAST-MODIFIED:20221002T194458Z
UID:3438-1664928000-1665014399@batumelintang.nadi.my
SUMMARY:E- Pembelajaran ( kuiz Online ) Student
DESCRIPTION:Kelas menjawab soalan kuiz secara online menggunakan laman web pendidikan supaya dapat meningkatkan prestasi pelajaran pelajar.
URL:https://batumelintang.nadi.my/event/e-pembelajaran-kuiz-online-student/
LOCATION:PEDi Batu Melintang\, PEDi Batu Melintang
CATEGORIES:DEFAULT
END:VEVENT
BEGIN:VEVENT
DTSTART;TZID=UTC:20221004T000000
DTEND;TZID=UTC:20221004T235959
DTSTAMP:20260420T124807
CREATED:20221002T194318Z
LAST-MODIFIED:20221002T194318Z
UID:3437-1664841600-1664927999@batumelintang.nadi.my
SUMMARY:Kelas Whatsapp Bisnes / Open
DESCRIPTION:Kelas khususnya kepada para usahawan untuk meningkatkan potensi produk jualan supaya lebih dikenali dan mudah untuk diakses oleh kenalan.
URL:https://batumelintang.nadi.my/event/kelas-whatsapp-bisnes-open/
LOCATION:PEDi Batu Melintang\, PEDi Batu Melintang
CATEGORIES:DEFAULT
END:VEVENT
BEGIN:VEVENT
DTSTART;TZID=UTC:20220908T000000
DTEND;TZID=UTC:20220908T235959
DTSTAMP:20260420T124807
CREATED:20220826T234355Z
LAST-MODIFIED:20220826T234355Z
UID:3436-1662595200-1662681599@batumelintang.nadi.my
SUMMARY:E-PEMBELAJARAN ( STUDENT )
DESCRIPTION:Kelas untuk pelajar belajar secara online 
URL:https://batumelintang.nadi.my/event/e-pembelajaran-student-2/
LOCATION:PEDi Batu Melintang\, PEDi Batu Melintang
CATEGORIES:DEFAULT
END:VEVENT
BEGIN:VEVENT
DTSTART;TZID=UTC:20220906T000000
DTEND;TZID=UTC:20220906T235959
DTSTAMP:20260420T124807
CREATED:20220826T234138Z
LAST-MODIFIED:20220826T234138Z
UID:3435-1662422400-1662508799@batumelintang.nadi.my
SUMMARY:PUZZLE ONLINE / STUDENT
DESCRIPTION:menguji kecekapan pelajar untuk menjawab soalan puzzle serta menyelesai masalah
URL:https://batumelintang.nadi.my/event/puzzle-online-student/
LOCATION:PEDi Batu Melintang\, PEDi Batu Melintang
CATEGORIES:DEFAULT
END:VEVENT
BEGIN:VEVENT
DTSTART;TZID=UTC:20220903T000000
DTEND;TZID=UTC:20220903T235959
DTSTAMP:20260420T124807
CREATED:20220826T233817Z
LAST-MODIFIED:20220826T233817Z
UID:3434-1662163200-1662249599@batumelintang.nadi.my
SUMMARY:KLIK DENGAN BIJAK / STUDENT
DESCRIPTION:Kepentingan menjaga privacy serta perlindungan semasa menggunakan media massa dengan selamat.
URL:https://batumelintang.nadi.my/event/klik-dengan-bijak-student/
LOCATION:PEDi Batu Melintang\, PEDi Batu Melintang
CATEGORIES:DEFAULT
END:VEVENT
BEGIN:VEVENT
DTSTART;TZID=UTC:20220902T000000
DTEND;TZID=UTC:20220902T235959
DTSTAMP:20260420T124807
CREATED:20220826T233657Z
LAST-MODIFIED:20220826T233657Z
UID:3433-1662076800-1662163199@batumelintang.nadi.my
SUMMARY:LITERASI ICT / OPEN
DESCRIPTION:Satu program untuk memberi pendedahan kepada peserta tentang teknologi ict 
URL:https://batumelintang.nadi.my/event/literasi-ict-open-2/
LOCATION:PEDi Batu Melintang\, PEDi Batu Melintang
CATEGORIES:DEFAULT
END:VEVENT
END:VCALENDAR